BEGIN:VCALENDAR
VERSION:2.0
PRODID:-//wp-events-plugin.com//7.1.2//EN
TZID:Europe/Paris
X-WR-TIMEZONE:Europe/Paris
BEGIN:VEVENT
UID:10@archers-la-croix-en-touraine.fr
DTSTART;TZID=Europe/Paris:20240205T190000
DTEND;TZID=Europe/Paris:20240205T190000
DTSTAMP:20240110T103830Z
URL:https://archers-la-croix-en-touraine.fr/espace-perso/evenements/reunio
 n-preparation-loto/
SUMMARY:Réunion Préparation LOTO
DESCRIPTION:
ATTACH;FMTTYPE=image/jpeg:https://archers-la-croix-en-touraine.fr/wp-conte
 nt/uploads/2024/01/EVENT-IMAGE-reunion-loto.jpg
CATEGORIES:Réunion
LOCATION:Mairie de La Croix en Touraine - MAISON DES ASSOS\, 30 Rue nationa
 le\, La Croix-en-Touraine\, 37150 \, France
X-APPLE-STRUCTURED-LOCATION;VALUE=URI;X-ADDRESS=30 Rue nationale\, La Croix
 -en-Touraine\, 37150 \, France;X-APPLE-RADIUS=100;X-TITLE=Mairie de La Cro
 ix en Touraine - MAISON DES ASSOS:geo:0,0
END:VEVENT
BEGIN:VTIMEZONE
TZID:Europe/Paris
X-LIC-LOCATION:Europe/Paris
BEGIN:STANDARD
DTSTART:20231029T020000
TZOFFSETFROM:+0200
TZOFFSETTO:+0100
TZNAME:CET
END:STANDARD
END:VTIMEZONE
END:VCALENDAR