BEGIN:VCALENDAR
VERSION:2.0
PRODID:-//wp-events-plugin.com//7.1.2//EN
TZID:Europe/Paris
X-WR-TIMEZONE:Europe/Paris
BEGIN:VEVENT
UID:14@archers-la-croix-en-touraine.fr
DTSTART;TZID=Europe/Paris:20240329T193000
DTEND;TZID=Europe/Paris:20240329T220000
DTSTAMP:20240221T111414Z
URL:https://archers-la-croix-en-touraine.fr/espace-perso/evenements/reunio
 n-preparation-loto-2024/
SUMMARY:Réunion Préparation LOTO 2024
DESCRIPTION:Afin de finaliser l'organisation finale\, cette réunion porter
 a sur la répartition des tâches.\n\nQUI FAIT QUOI ?\n\nPréparation AVAN
 T :\n\n 	Flans\n 	Crêpes\n 	Prêt d'un percolateur\n\n\nVendredi SOIR :\n
 \n\n 	Installation de la salle\n\n\nSamedi MATIN :\n\n 	épluchage des Pat
 ates\n\nPOUR CHAQUE DEPART DU LOTO (SAMEDI &amp\; DIMANCHE) :\n\n 	Plan de
  table (1 personne)\n 	Greffe (4 personnes)\n 	Buvette (2 à 5 personnes)\
 n 	Cuisson des frites (1 à 2 personnes)\n 	Contrôleur (1 personne)\n\nDi
 manche SOIR :\n\n\n 	Nettoyage et rangement de la salle\n\nNous termineron
 s la soirée ensemble par un petit repas entre les bénévoles .
ATTACH;FMTTYPE=image/jpeg:https://archers-la-croix-en-touraine.fr/wp-conte
 nt/uploads/2024/01/EVENT-IMAGE-reunion-loto.jpg
CATEGORIES:Réunion
LOCATION:GYMNASE DES AIGREMONTS\, Rue du Chemin Vert\, Bléré\, 37150\, Fr
 ance
X-APPLE-STRUCTURED-LOCATION;VALUE=URI;X-ADDRESS=Rue du Chemin Vert\, Blér
 é\, 37150\, France;X-APPLE-RADIUS=100;X-TITLE=GYMNASE DES AIGREMONTS:geo:
 0,0
END:VEVENT
BEGIN:VTIMEZONE
TZID:Europe/Paris
X-LIC-LOCATION:Europe/Paris
BEGIN:STANDARD
DTSTART:20231029T020000
TZOFFSETFROM:+0200
TZOFFSETTO:+0100
TZNAME:CET
END:STANDARD
END:VTIMEZONE
END:VCALENDAR