BEGIN:VCALENDAR
VERSION:2.0
PRODID:-//wp-events-plugin.com//7.1.2//EN
TZID:Europe/Paris
X-WR-TIMEZONE:Europe/Paris
BEGIN:VEVENT
UID:50@archers-la-croix-en-touraine.fr
DTSTART;TZID=Europe/Paris:20260501T090000
DTEND;TZID=Europe/Paris:20260510T173000
DTSTAMP:20251026T153959Z
URL:https://archers-la-croix-en-touraine.fr/espace-perso/evenements/organi
 sation-tir-beursault-2/
SUMMARY:Organisation TIR BEURSAULT
DESCRIPTION:Nous organisons\, comme chaque année\, sur les 2 premiers week
 -end du mois de Mai\, notre habituel concours de Tir BEURSAULT\nLe jeu d'a
 rc sera réservé à la compétition les jours suivants\n\n 	Vendredi 1er 
 mai\n 	Samedi 2 mai\n 	Dimanche 3 mai\n 	Vendredi 8 mai\n 	Samedi 9 mai\n 
 	Dimanche 10 mai\n\nNous avons besoin d'un marqueur par départ\n\nTIR du 
 matin :\n9h : ouverture du jardin d'arc\n9h30 : greffe / buvette\n10h45 / 
 11h30 buvette\n13h pot de l'amitié\n\nTIR de l'après midi :\n13h30 greff
 e / buvette\n14h45 /15h30 buvette\n17h pot de l'amitié\n\nPodium\naprès 
 le tir de l'après-midi du dimanche 10 mai  à 17h\nsuivi du pot de l'ami
 tié
ATTACH;FMTTYPE=image/jpeg:https://archers-la-croix-en-touraine.fr/wp-conte
 nt/uploads/2025/03/EVENT-IMAGE-beursault.jpg
CATEGORIES:Compétition,Organisation
LOCATION:JARDIN D'ARC\, Rue Edouard André\, La Croix-en-Touraine\, 37150 \
 , France
X-APPLE-STRUCTURED-LOCATION;VALUE=URI;X-ADDRESS=Rue Edouard André\, La Cro
 ix-en-Touraine\, 37150 \, France;X-APPLE-RADIUS=100;X-TITLE=JARDIN D'ARC:g
 eo:0,0
END:VEVENT
BEGIN:VTIMEZONE
TZID:Europe/Paris
X-LIC-LOCATION:Europe/Paris
BEGIN:DAYLIGHT
DTSTART:20260329T030000
TZOFFSETFROM:+0100
TZOFFSETTO:+0200
TZNAME:CEST
END:DAYLIGHT
END:VTIMEZONE
END:VCALENDAR